BEGIN:VCALENDAR
VERSION:2.0
PRODID:-//Seelsorge &amp; Begegnung - ECPv6.15.14//NONSGML v1.0//EN
CALSCALE:GREGORIAN
METHOD:PUBLISH
X-ORIGINAL-URL:https://www.seelsorge-und-begegnung.de
X-WR-CALDESC:Veranstaltungen für Seelsorge &amp; Begegnung
REFRESH-INTERVAL;VALUE=DURATION:PT1H
X-Robots-Tag:noindex
X-PUBLISHED-TTL:PT1H
BEGIN:VTIMEZONE
TZID:Europe/Berlin
BEGIN:DAYLIGHT
TZOFFSETFROM:+0100
TZOFFSETTO:+0200
TZNAME:CEST
DTSTART:20250330T010000
END:DAYLIGHT
BEGIN:STANDARD
TZOFFSETFROM:+0200
TZOFFSETTO:+0100
TZNAME:CET
DTSTART:20251026T010000
END:STANDARD
BEGIN:DAYLIGHT
TZOFFSETFROM:+0100
TZOFFSETTO:+0200
TZNAME:CEST
DTSTART:20260329T010000
END:DAYLIGHT
BEGIN:STANDARD
TZOFFSETFROM:+0200
TZOFFSETTO:+0100
TZNAME:CET
DTSTART:20261025T010000
END:STANDARD
BEGIN:DAYLIGHT
TZOFFSETFROM:+0100
TZOFFSETTO:+0200
TZNAME:CEST
DTSTART:20270328T010000
END:DAYLIGHT
BEGIN:STANDARD
TZOFFSETFROM:+0200
TZOFFSETTO:+0100
TZNAME:CET
DTSTART:20271031T010000
END:STANDARD
END:VTIMEZONE
BEGIN:VEVENT
DTSTART;TZID=Europe/Berlin:20261005T131500
DTEND;TZID=Europe/Berlin:20261005T153000
DTSTAMP:20260419T234403
CREATED:20251205T080332Z
LAST-MODIFIED:20251130T194824Z
UID:10000891-1791206100-1791214200@www.seelsorge-und-begegnung.de
SUMMARY:Die Seele baumeln lassen beim Malen
DESCRIPTION:Gruppe 1: montags von 10.15 bis 12.30 Uhr\nGruppe 2: montags von 13.15 bis 15.30 Uhr \n19.01. // 26.01. // 02.02. // 23.02. // 02.03. // 16.03. // 23.03. // 13.04. // 27.04. // 11.05. // 18.05. // 01.06. // 15.06. // 29.06. // 06.07.2026 \n07.09. // 14.09. // 21.09. // 28.09. // 05.10. // 12.10. // 02.11. // 09.11. // 16.11. // 23.11. // 30.11. // 07.12.2026 \nDie Seele baumeln lassen – in entspannter\, kreativer Runde wollen wir beim gemeinsamen Malen und Zeichnen den eigenen Gefühlen und Gedanken Raum geben. Wir probieren unterschiedliche Farben und Techniken auf und mit Papier aus. \nDie Leiterin Alice Musiol unterstützt mit Anregungen und Beispielen die individuellen Themen und Ausdrucksweisen. \nVorkenntnisse sind nicht notwendig. \n Alice Musiol \nAnmeldung für das 1. Halbjahr ab Januar\nAnmeldung für das 2. Halbjahr ab Mai \n\nBild: © Seelsorge & Begegnung | Malgruppe Musiol
URL:https://www.seelsorge-und-begegnung.de/event/die-seele-baumeln-lassen-beim-malen-2026/2026-10-05/
LOCATION:Köln\, Seelsorge & Begegnung\, Auguststr. 58\, Köln\, Nordrhein-Westfalen\, Köln
CATEGORIES:Gruppenangebote
ATTACH;FMTTYPE=image/jpeg:https://www.seelsorge-und-begegnung.de/wp-content/uploads/2025/11/Musiol_1_2026.jpg
ORGANIZER;CN="Seelsorge & Begegnung f%C3%BCr psychiatrieerfahrene Menschen":MAILTO:info@seelsorge-und-begegnung.de
END:VEVENT
BEGIN:VEVENT
DTSTART;TZID=Europe/Berlin:20261009T150000
DTEND;TZID=Europe/Berlin:20261009T170000
DTSTAMP:20260419T234403
CREATED:20251205T080616Z
LAST-MODIFIED:20251130T205836Z
UID:10000957-1791558000-1791565200@www.seelsorge-und-begegnung.de
SUMMARY:Ich liebe das Leben
DESCRIPTION:Freitag\, 19. Juni 2026 von 16.00 bis 18.00 Uhr\nFreitag\, 09. Oktober 2026 von 16.00 bis 18.00 Uhr \nSingen ist ein wundervolles Lebenselixier\, das uns im wahrsten Sinne des Wortes bewegt. Mit schwungvollen Volksliedern\, Schlagern\, Chants und Liedern aus aller Welt werden wir uns an diesen beiden Nachmittagen dem bewegten Singen widmen. \nGika Bäumer und Birgitta Daniels-Nieswand laden zu einem Singnachmittag ein\, der Lebensfreude\, Gesang und Rhythmus verbindet. \nGika Bäumer\nBirgitta Daniels-Nieswand \nAnmeldung ab Mai \n\nBild: © Birgitta Daniels-Nieswand
URL:https://www.seelsorge-und-begegnung.de/event/ich-liebe-das-leben-2/2026-10-09/
LOCATION:Köln\, Paulushaus\, Loreleystraße 7\, Köln\, Nordrhein-Westfalen\, 50677\, Germany
CATEGORIES:Gruppenangebote
ATTACH;FMTTYPE=image/jpeg:https://www.seelsorge-und-begegnung.de/wp-content/uploads/2024/11/Gika_Programm-2025.jpg
ORGANIZER;CN="Seelsorge & Begegnung f%C3%BCr psychiatrieerfahrene Menschen":MAILTO:info@seelsorge-und-begegnung.de
END:VEVENT
BEGIN:VEVENT
DTSTART;TZID=Europe/Berlin:20261012T131500
DTEND;TZID=Europe/Berlin:20261012T153000
DTSTAMP:20260419T234403
CREATED:20251205T080332Z
LAST-MODIFIED:20251130T194824Z
UID:10000892-1791810900-1791819000@www.seelsorge-und-begegnung.de
SUMMARY:Die Seele baumeln lassen beim Malen
DESCRIPTION:Gruppe 1: montags von 10.15 bis 12.30 Uhr\nGruppe 2: montags von 13.15 bis 15.30 Uhr \n19.01. // 26.01. // 02.02. // 23.02. // 02.03. // 16.03. // 23.03. // 13.04. // 27.04. // 11.05. // 18.05. // 01.06. // 15.06. // 29.06. // 06.07.2026 \n07.09. // 14.09. // 21.09. // 28.09. // 05.10. // 12.10. // 02.11. // 09.11. // 16.11. // 23.11. // 30.11. // 07.12.2026 \nDie Seele baumeln lassen – in entspannter\, kreativer Runde wollen wir beim gemeinsamen Malen und Zeichnen den eigenen Gefühlen und Gedanken Raum geben. Wir probieren unterschiedliche Farben und Techniken auf und mit Papier aus. \nDie Leiterin Alice Musiol unterstützt mit Anregungen und Beispielen die individuellen Themen und Ausdrucksweisen. \nVorkenntnisse sind nicht notwendig. \n Alice Musiol \nAnmeldung für das 1. Halbjahr ab Januar\nAnmeldung für das 2. Halbjahr ab Mai \n\nBild: © Seelsorge & Begegnung | Malgruppe Musiol
URL:https://www.seelsorge-und-begegnung.de/event/die-seele-baumeln-lassen-beim-malen-2026/2026-10-12/
LOCATION:Köln\, Seelsorge & Begegnung\, Auguststr. 58\, Köln\, Nordrhein-Westfalen\, Köln
CATEGORIES:Gruppenangebote
ATTACH;FMTTYPE=image/jpeg:https://www.seelsorge-und-begegnung.de/wp-content/uploads/2025/11/Musiol_1_2026.jpg
ORGANIZER;CN="Seelsorge & Begegnung f%C3%BCr psychiatrieerfahrene Menschen":MAILTO:info@seelsorge-und-begegnung.de
END:VEVENT
BEGIN:VEVENT
DTSTART;TZID=Europe/Berlin:20261012T163000
DTEND;TZID=Europe/Berlin:20261012T180000
DTSTAMP:20260419T234403
CREATED:20251205T080012Z
LAST-MODIFIED:20251130T190843Z
UID:10000785-1791822600-1791828000@www.seelsorge-und-begegnung.de
SUMMARY:Frauenspuren
DESCRIPTION:montags von 16.30 bis 18.00 Uhr \n12.01. // 09.02. // 09.03. // 20.04. // 11.05. // 15.06. // 13.07. // 10.08. // 21.09. // 12.10. // 16.11. // 14.12.2026 \nMiteinander \n\nein Stück Weg gemeinsam gehen\nsingen\, beten und kreativ sein\nreden und lachen\nvoneinander hören\, miteinander schweigen und einander ermutigen\n\nMiteinander den Spuren von Frauen \n\nin Kunst und Kirche\nin Gedichten und Geschichten\nin biblischen Erzählungen nachgehen\n\nMiteinander Spuren Gottes in unserem Leben entdecken \nHerzliche Einladung an interessierte Frauen! \nBirgitta Daniels-Nieswand \nAnmeldung ab Januar für alle Termine des Jahres  \n\nBild: © Richard Griffin · stock.adobe.com
URL:https://www.seelsorge-und-begegnung.de/event/frauenspuren-2/2026-10-12/
LOCATION:Köln\, Seelsorge & Begegnung\, Auguststr. 58\, Köln\, Nordrhein-Westfalen\, Köln
CATEGORIES:Gruppenangebote
ATTACH;FMTTYPE=image/jpeg:https://www.seelsorge-und-begegnung.de/wp-content/uploads/2023/06/frauenspuren_labyrinth.jpg
ORGANIZER;CN="Seelsorge & Begegnung f%C3%BCr psychiatrieerfahrene Menschen":MAILTO:info@seelsorge-und-begegnung.de
END:VEVENT
BEGIN:VEVENT
DTSTART;TZID=Europe/Berlin:20261014T143000
DTEND;TZID=Europe/Berlin:20261014T170000
DTSTAMP:20260419T234403
CREATED:20251205T080441Z
LAST-MODIFIED:20251130T195213Z
UID:10000902-1791988200-1791997200@www.seelsorge-und-begegnung.de
SUMMARY:Klang trifft Farbe
DESCRIPTION:Mittwoch\, 18. März 2026 von 14.30 bis 17.00 Uhr\nMittwoch\, 14. Oktober 2026 von 14.30 bis 17.00 Uhr \nIn diesem Workshop wollen wir mit Klanginstrumenten und Malutensilien experimentieren. Ganz ohne Leistungsanspruch probieren wir unterschiedliche Klänge aus\, entdecken\, wie wir mit Klängen in den Dialog treten können\, und was entsteht\, wenn wir aus dem Erlebten mit bunten Farben Bilder gestalten. \nDie Treffen sind unabhängig voneinander und können einzeln besucht werden. \nMaria Fahnemann \nJudith Bacher \nAnmeldung für den 18.03. ab Januar\nAnmeldung für den 14.10. ab Mai \n\nBild: 1. © Birgitta Daniels-Nieswand 2. © Maria Fahnemann
URL:https://www.seelsorge-und-begegnung.de/event/klang-trifft-farbe-2023-2/2026-10-14/
LOCATION:Köln\, Seelsorge & Begegnung\, Auguststr. 58\, Köln\, Nordrhein-Westfalen\, Köln
CATEGORIES:Gruppenangebote
ATTACH;FMTTYPE=image/jpeg:https://www.seelsorge-und-begegnung.de/wp-content/uploads/2022/12/Klang-trifft-farbe.jpg
ORGANIZER;CN="Seelsorge & Begegnung f%C3%BCr psychiatrieerfahrene Menschen":MAILTO:info@seelsorge-und-begegnung.de
END:VEVENT
BEGIN:VEVENT
DTSTART;TZID=Europe/Berlin:20261021T143000
DTEND;TZID=Europe/Berlin:20261021T160000
DTSTAMP:20260419T234403
CREATED:20251205T080129Z
LAST-MODIFIED:20260301T095255Z
UID:10000799-1792593000-1792598400@www.seelsorge-und-begegnung.de
SUMMARY:Einführung in das Handauflegen  bei sich SELBST
DESCRIPTION:mittwochs von 14.30 bis 16.00 Uhr \n25.03. // 15.04. // 22.04.2026\n30.09. // 28.10. // 21.10.2026 \nWir alle haben Selbstheilungskräfte. Das sind selbstregulierende Kräfte in uns. Mit dem Handauflegen können wir in leichter Weise diese tief in uns angelegte Fähigkeit stärken und erfahren\, wie ordnend sie sich auswirkt. Es gibt auch die stetig wirkenden heilenden Kräfte darüber hinaus. \nAn den drei Nachmittagen üben wir uns darin\, uns für diese ganzheitlichen Kräfte zu öffnen. Dabei legen wir uns SELBST möglichst absichtslos\, aufmerksam und geduldig die Hände auf. In Verbindung mit Stille\, alltagstauglichen Körper-\, Atem- und Spürübungen und dem schlichten Gebet der „Open Hands“ Schule machen wir Erfahrungen mit unserem eigenen Zugang. Es gibt entsprechende Informationen aus den langen Erfahrungen und Erkenntnissen der „Open Hands“ Schule. Auf diese Weise können wir tiefer in Kontakt kommen mit dem\, was heil ist in uns. \nElisabeth Reiter \n  \nAnmeldung für das 1. Halbjahr ab Januar\nAnmeldung für das 2. Halbjahr ab Mai \n\nBild: © Lydia Debusmann
URL:https://www.seelsorge-und-begegnung.de/event/einfuehrung-in-das-handauflegen-bei-sich-selbst-2025-2/2026-10-21/
LOCATION:Köln\, Seelsorge & Begegnung\, Auguststr. 58\, Köln\, Nordrhein-Westfalen\, Köln
CATEGORIES:Gruppenangebote
ATTACH;FMTTYPE=image/jpeg:https://www.seelsorge-und-begegnung.de/wp-content/uploads/2021/12/open-hands.jpg
ORGANIZER;CN="Seelsorge & Begegnung f%C3%BCr psychiatrieerfahrene Menschen":MAILTO:info@seelsorge-und-begegnung.de
END:VEVENT
BEGIN:VEVENT
DTSTART;TZID=Europe/Berlin:20261023T143000
DTEND;TZID=Europe/Berlin:20261023T170000
DTSTAMP:20260419T234403
CREATED:20251205T080534Z
LAST-MODIFIED:20251130T204736Z
UID:10000947-1792765800-1792774800@www.seelsorge-und-begegnung.de
SUMMARY:Qi Gong der 18 Bewegungen
DESCRIPTION:Freitag\, 10. April 2026 von 14.30 bis 17.00 Uhr\nFreitag\, 23. Oktober 2026 von 14.30 bis 17.00 Uhr \nMit einfachen aufeinander abgestimmten Bewegungsabläufen lassen wir den Alltag los und kommen in unsere innere Ruhe. \nQi Gong bedeutet so viel wie das Arbeiten (Gong) mit der Lebensenergie (Qi). Diese fließt auf bestimmten Bahnen\, den Meridianen\, durch unseren Körper und hält uns gesund. Qi Gong ist eine Möglichkeit das Qi zu lenken und zum Fließen zu bringen\, so dass sich Blockierungen im Körper wieder lösen können.  \nDie 18 Bewegungsabläufe entfalten ihre Wirksamkeit durch das Zusammenspiel von langsamen Bewegungen\, Atmung und Konzentration. Es ist eine besonders schöne\, fließende Übungsform\, die den Körper geschmeidig mobilisiert\, in den Ausgleich und zu einer tiefen Entspannung führt.  \nTeilnehmer*innen mit Vorkenntnissen haben die Möglichkeit mit diesem Angebot das bereits Erlernte aufzufrischen\, aber auch Einsteiger*innen sind herzlich willkommen.  \nBitte bringen Sie bequeme\, leichte Kleidung mit und leichte Schuhe oder Socken\, die gleitende Bewegungen über den Boden ermöglichen. \nDie Teilnahme erfolgt in eigener Verantwortung. \nSabine Clevenz \nAnmeldung für den 10.04. ab Januar\nAnmeldung für den 23.10. ab Mai \n\nBild: © Robert Kneschke – stock.adobe.com
URL:https://www.seelsorge-und-begegnung.de/event/qi-gong-der-18-bewegungen-3/2026-10-23/
LOCATION:Köln\, Seelsorge & Begegnung\, Auguststr. 58\, Köln\, Nordrhein-Westfalen\, Köln
CATEGORIES:Gruppenangebote
ATTACH;FMTTYPE=image/jpeg:https://www.seelsorge-und-begegnung.de/wp-content/uploads/2022/12/Qi-Gong.jpg
ORGANIZER;CN="Seelsorge & Begegnung f%C3%BCr psychiatrieerfahrene Menschen":MAILTO:info@seelsorge-und-begegnung.de
END:VEVENT
BEGIN:VEVENT
DTSTART;TZID=Europe/Berlin:20261027T180000
DTEND;TZID=Europe/Berlin:20261027T190000
DTSTAMP:20260419T234403
CREATED:20251201T210057Z
LAST-MODIFIED:20251201T214022Z
UID:10000983-1793124000-1793127600@www.seelsorge-und-begegnung.de
SUMMARY:Vom Zauber des Wortes
DESCRIPTION:Lesung der Schreibwerkstatt \nDienstag\, 27. Oktober 2026\, 18.00 Uhr \nIn jedem Menschen ruht eine poetische Schöpferkraft\, er muss nur den Mut haben\, sie zu wecken und zum Ausdruck zu bringen. \nDie Teilnehmenden der Schreibwerkstätten waren mutig und haben das Spiel mit der Sprache gewagt. In einer Lesung stellen sie ihre kreativen Ergebnisse vor und lesen aus den Texten\, die sie in den vergangenen Monaten geschrieben haben.  \nLassen Sie sich vom Zauber der kraftvollen Worte berühren und lauschen Sie den Dichtern und Dichterinnen des Paulushauses! Umrahmt und begleitet wird die Lesung von wunderbarer Harfenmusik. \nMusikalische Begleitung: Dr. Diana Rautenstrauch\, Harfe \nSteffen Filz\nBirgitta Daniels-Nieswand \nLeuchtworte\nIch kenne nichts auf der Welt\,\ndas eine solche Macht hat\, wie das Wort.\nManchmal schreibe ich eines auf und sehe es an\,\nbis es beginnt zu leuchten. \nEmily Dickinson \n\nFoto: © M Bam/peopleimages.com | stock.adobe.com
URL:https://www.seelsorge-und-begegnung.de/event/vom-zauber-des-wortes-2026/
LOCATION:Köln\, Seelsorge & Begegnung\, Auguststr. 58\, Köln\, Nordrhein-Westfalen\, Köln
CATEGORIES:Lesung
ATTACH;FMTTYPE=image/jpeg:https://www.seelsorge-und-begegnung.de/wp-content/uploads/2024/11/Zauber-des-Wortes.jpg
ORGANIZER;CN="Seelsorge & Begegnung f%C3%BCr psychiatrieerfahrene Menschen":MAILTO:info@seelsorge-und-begegnung.de
END:VEVENT
BEGIN:VEVENT
DTSTART;TZID=Europe/Berlin:20261028T143000
DTEND;TZID=Europe/Berlin:20261028T160000
DTSTAMP:20260419T234403
CREATED:20251205T080129Z
LAST-MODIFIED:20260301T095255Z
UID:10000991-1793197800-1793203200@www.seelsorge-und-begegnung.de
SUMMARY:Einführung in das Handauflegen  bei sich SELBST
DESCRIPTION:mittwochs von 14.30 bis 16.00 Uhr \n25.03. // 15.04. // 22.04.2026\n30.09. // 28.10. // 21.10.2026 \nWir alle haben Selbstheilungskräfte. Das sind selbstregulierende Kräfte in uns. Mit dem Handauflegen können wir in leichter Weise diese tief in uns angelegte Fähigkeit stärken und erfahren\, wie ordnend sie sich auswirkt. Es gibt auch die stetig wirkenden heilenden Kräfte darüber hinaus. \nAn den drei Nachmittagen üben wir uns darin\, uns für diese ganzheitlichen Kräfte zu öffnen. Dabei legen wir uns SELBST möglichst absichtslos\, aufmerksam und geduldig die Hände auf. In Verbindung mit Stille\, alltagstauglichen Körper-\, Atem- und Spürübungen und dem schlichten Gebet der „Open Hands“ Schule machen wir Erfahrungen mit unserem eigenen Zugang. Es gibt entsprechende Informationen aus den langen Erfahrungen und Erkenntnissen der „Open Hands“ Schule. Auf diese Weise können wir tiefer in Kontakt kommen mit dem\, was heil ist in uns. \nElisabeth Reiter \n  \nAnmeldung für das 1. Halbjahr ab Januar\nAnmeldung für das 2. Halbjahr ab Mai \n\nBild: © Lydia Debusmann
URL:https://www.seelsorge-und-begegnung.de/event/einfuehrung-in-das-handauflegen-bei-sich-selbst-2025-2/2026-10-28/
LOCATION:Köln\, Seelsorge & Begegnung\, Auguststr. 58\, Köln\, Nordrhein-Westfalen\, Köln
CATEGORIES:Gruppenangebote
ATTACH;FMTTYPE=image/jpeg:https://www.seelsorge-und-begegnung.de/wp-content/uploads/2021/12/open-hands.jpg
ORGANIZER;CN="Seelsorge & Begegnung f%C3%BCr psychiatrieerfahrene Menschen":MAILTO:info@seelsorge-und-begegnung.de
END:VEVENT
END:VCALENDAR