BEGIN:VCALENDAR
VERSION:2.0
PRODID:-//Seelsorge &amp; Begegnung - ECPv6.15.14//NONSGML v1.0//EN
CALSCALE:GREGORIAN
METHOD:PUBLISH
X-WR-CALNAME:Seelsorge &amp; Begegnung
X-ORIGINAL-URL:https://www.seelsorge-und-begegnung.de
X-WR-CALDESC:Veranstaltungen für Seelsorge &amp; Begegnung
REFRESH-INTERVAL;VALUE=DURATION:PT1H
X-Robots-Tag:noindex
X-PUBLISHED-TTL:PT1H
BEGIN:VTIMEZONE
TZID:Europe/Berlin
BEGIN:DAYLIGHT
TZOFFSETFROM:+0100
TZOFFSETTO:+0200
TZNAME:CEST
DTSTART:20250330T010000
END:DAYLIGHT
BEGIN:STANDARD
TZOFFSETFROM:+0200
TZOFFSETTO:+0100
TZNAME:CET
DTSTART:20251026T010000
END:STANDARD
BEGIN:DAYLIGHT
TZOFFSETFROM:+0100
TZOFFSETTO:+0200
TZNAME:CEST
DTSTART:20260329T010000
END:DAYLIGHT
BEGIN:STANDARD
TZOFFSETFROM:+0200
TZOFFSETTO:+0100
TZNAME:CET
DTSTART:20261025T010000
END:STANDARD
BEGIN:DAYLIGHT
TZOFFSETFROM:+0100
TZOFFSETTO:+0200
TZNAME:CEST
DTSTART:20270328T010000
END:DAYLIGHT
BEGIN:STANDARD
TZOFFSETFROM:+0200
TZOFFSETTO:+0100
TZNAME:CET
DTSTART:20271031T010000
END:STANDARD
END:VTIMEZONE
BEGIN:VEVENT
DTSTART;TZID=Europe/Berlin:20260601T101500
DTEND;TZID=Europe/Berlin:20260601T123000
DTSTAMP:20260419T165029
CREATED:20251205T080332Z
LAST-MODIFIED:20251130T194824Z
UID:10000883-1780308900-1780317000@www.seelsorge-und-begegnung.de
SUMMARY:Die Seele baumeln lassen beim Malen
DESCRIPTION:Gruppe 1: montags von 10.15 bis 12.30 Uhr\nGruppe 2: montags von 13.15 bis 15.30 Uhr \n19.01. // 26.01. // 02.02. // 23.02. // 02.03. // 16.03. // 23.03. // 13.04. // 27.04. // 11.05. // 18.05. // 01.06. // 15.06. // 29.06. // 06.07.2026 \n07.09. // 14.09. // 21.09. // 28.09. // 05.10. // 12.10. // 02.11. // 09.11. // 16.11. // 23.11. // 30.11. // 07.12.2026 \nDie Seele baumeln lassen – in entspannter\, kreativer Runde wollen wir beim gemeinsamen Malen und Zeichnen den eigenen Gefühlen und Gedanken Raum geben. Wir probieren unterschiedliche Farben und Techniken auf und mit Papier aus. \nDie Leiterin Alice Musiol unterstützt mit Anregungen und Beispielen die individuellen Themen und Ausdrucksweisen. \nVorkenntnisse sind nicht notwendig. \n Alice Musiol \nAnmeldung für das 1. Halbjahr ab Januar\nAnmeldung für das 2. Halbjahr ab Mai \n\nBild: © Seelsorge & Begegnung | Malgruppe Musiol
URL:https://www.seelsorge-und-begegnung.de/event/die-seele-baumeln-lassen-beim-malen-2026/2026-06-01/
LOCATION:Köln\, Seelsorge & Begegnung\, Auguststr. 58\, Köln\, Nordrhein-Westfalen\, Köln
CATEGORIES:Gruppenangebote
ATTACH;FMTTYPE=image/jpeg:https://www.seelsorge-und-begegnung.de/wp-content/uploads/2025/11/Musiol_1_2026.jpg
ORGANIZER;CN="Seelsorge & Begegnung f%C3%BCr psychiatrieerfahrene Menschen":MAILTO:info@seelsorge-und-begegnung.de
END:VEVENT
BEGIN:VEVENT
DTSTART;TZID=Europe/Berlin:20260611T180000
DTEND;TZID=Europe/Berlin:20260611T200000
DTSTAMP:20260419T165029
CREATED:20251205T080742Z
LAST-MODIFIED:20260122T104605Z
UID:10000968-1781200800-1781208000@www.seelsorge-und-begegnung.de
SUMMARY:Meditatives Tanzen
DESCRIPTION:Schritte zur Mitte\nEinkehrtag am Samstag\, 28. März 2026\, von 10.30 bis 16.00 Uhr \nTermine der Folgetreffen: \nTanzabende am Donnerstag\n23.04. // 11.06. // 27.08. // 17.09.2026\nvon 18.00 bis 20.00 Uhr \n\nSchließt euch zusammen im Reigentanz \nPsalm 118 \n\nMeditative Kreistänze führen uns im Schreiten und Bewegen zu der mal ruhigen und mal beschwingten Musik in unsere innere Mitte. Die Teilnehmenden erfahren hier immer wieder die Freude an der Bewegung sowie Vertrauen und Getragen sein\, Aufatmen und innere Ruhe. \nWir wollen an diesem Tag und vier weiteren Abenden Freude im Meditativen Tanzen erleben. Die Zeilen und Bilder des kontemplativen Malers und Lyrikers Gerhard Mevissen werden dabei auch unsere Seelen ins Schwingen bringen.\nDie Teilnahme verlangt keine Vorerfahrungen. \nFür den Samstag bringe bitte jede/r für den gemeinsamen Mittagstisch eine Kleinigkeit mit (ein kleiner Salat\, Dips\, etc.). Für Brot\, Siedewürste und Getränke ist gesorgt. \nBitte mitbringen: Bequeme Kleidung\, weiche Schuhe \nBitte melden Sie sich für den Einkehrtag und dann für die Tanzabende gesondert an. Falls Sie an einem Termin nicht teilnehmen können\, melden\nSie sich bitte ab.\n \nManfred Becker-Irmen \nAnmeldung ab Januar \n\nFoto: © Manfred Becker-Irmen
URL:https://www.seelsorge-und-begegnung.de/event/meditatives-tanzen-2/2026-06-11/
LOCATION:Köln\, Seelsorge & Begegnung\, Auguststr. 58\, Köln\, Nordrhein-Westfalen\, Köln
CATEGORIES:Begegnungs- und Einkehrtage
ATTACH;FMTTYPE=image/png:https://www.seelsorge-und-begegnung.de/wp-content/uploads/2024/11/meditatives_Tanzen-183443037.png
ORGANIZER;CN="Seelsorge & Begegnung f%C3%BCr psychiatrieerfahrene Menschen":MAILTO:info@seelsorge-und-begegnung.de
END:VEVENT
BEGIN:VEVENT
DTSTART;TZID=Europe/Berlin:20260612T150000
DTEND;TZID=Europe/Berlin:20260612T160000
DTSTAMP:20260419T165029
CREATED:20251205T080059Z
LAST-MODIFIED:20251130T184202Z
UID:10000750-1781276400-1781280000@www.seelsorge-und-begegnung.de
SUMMARY:Salbungsgottesdienst
DESCRIPTION:Freitag\, 12-06.2025 um 15.00 Uhr \nDie Krankensalbung ist ein wichtiges und spürbares Zeichen der Nähe und der tröstlichen Zuwendung Gottes zu uns. In Zeiten von Krankheit und schwierigen Herausforderungen eine Ermutigung und Stärkung\, den eigenen Weg vertrauensvoll weiterzugehen. \nDas Sakrament der Krankensalbung kann mehrmals empfangen werden. \nHerzliche Einladung\, \nWolfgang Pütz\nBirgitta Daniels-Nieswand\nJudith Bacher \n\nBild: © Silvia Bins
URL:https://www.seelsorge-und-begegnung.de/event/salbungsgottesdienst-12-06-2026/
LOCATION:Köln\, Seelsorge & Begegnung\, Auguststr. 58\, Köln\, Nordrhein-Westfalen\, Köln
CATEGORIES:Gottesdienst
ATTACH;FMTTYPE=image/jpeg:https://www.seelsorge-und-begegnung.de/wp-content/uploads/2024/11/©SilviaBins_4674_Kapelle-kl.jpg
ORGANIZER;CN="Seelsorge & Begegnung f%C3%BCr psychiatrieerfahrene Menschen":MAILTO:info@seelsorge-und-begegnung.de
END:VEVENT
BEGIN:VEVENT
DTSTART;TZID=Europe/Berlin:20260615T101500
DTEND;TZID=Europe/Berlin:20260615T123000
DTSTAMP:20260419T165029
CREATED:20251205T080332Z
LAST-MODIFIED:20251130T194824Z
UID:10000884-1781518500-1781526600@www.seelsorge-und-begegnung.de
SUMMARY:Die Seele baumeln lassen beim Malen
DESCRIPTION:Gruppe 1: montags von 10.15 bis 12.30 Uhr\nGruppe 2: montags von 13.15 bis 15.30 Uhr \n19.01. // 26.01. // 02.02. // 23.02. // 02.03. // 16.03. // 23.03. // 13.04. // 27.04. // 11.05. // 18.05. // 01.06. // 15.06. // 29.06. // 06.07.2026 \n07.09. // 14.09. // 21.09. // 28.09. // 05.10. // 12.10. // 02.11. // 09.11. // 16.11. // 23.11. // 30.11. // 07.12.2026 \nDie Seele baumeln lassen – in entspannter\, kreativer Runde wollen wir beim gemeinsamen Malen und Zeichnen den eigenen Gefühlen und Gedanken Raum geben. Wir probieren unterschiedliche Farben und Techniken auf und mit Papier aus. \nDie Leiterin Alice Musiol unterstützt mit Anregungen und Beispielen die individuellen Themen und Ausdrucksweisen. \nVorkenntnisse sind nicht notwendig. \n Alice Musiol \nAnmeldung für das 1. Halbjahr ab Januar\nAnmeldung für das 2. Halbjahr ab Mai \n\nBild: © Seelsorge & Begegnung | Malgruppe Musiol
URL:https://www.seelsorge-und-begegnung.de/event/die-seele-baumeln-lassen-beim-malen-2026/2026-06-15/
LOCATION:Köln\, Seelsorge & Begegnung\, Auguststr. 58\, Köln\, Nordrhein-Westfalen\, Köln
CATEGORIES:Gruppenangebote
ATTACH;FMTTYPE=image/jpeg:https://www.seelsorge-und-begegnung.de/wp-content/uploads/2025/11/Musiol_1_2026.jpg
ORGANIZER;CN="Seelsorge & Begegnung f%C3%BCr psychiatrieerfahrene Menschen":MAILTO:info@seelsorge-und-begegnung.de
END:VEVENT
BEGIN:VEVENT
DTSTART;TZID=Europe/Berlin:20260615T163000
DTEND;TZID=Europe/Berlin:20260615T180000
DTSTAMP:20260419T165029
CREATED:20251205T080012Z
LAST-MODIFIED:20251130T190843Z
UID:10000781-1781541000-1781546400@www.seelsorge-und-begegnung.de
SUMMARY:Frauenspuren
DESCRIPTION:montags von 16.30 bis 18.00 Uhr \n12.01. // 09.02. // 09.03. // 20.04. // 11.05. // 15.06. // 13.07. // 10.08. // 21.09. // 12.10. // 16.11. // 14.12.2026 \nMiteinander \n\nein Stück Weg gemeinsam gehen\nsingen\, beten und kreativ sein\nreden und lachen\nvoneinander hören\, miteinander schweigen und einander ermutigen\n\nMiteinander den Spuren von Frauen \n\nin Kunst und Kirche\nin Gedichten und Geschichten\nin biblischen Erzählungen nachgehen\n\nMiteinander Spuren Gottes in unserem Leben entdecken \nHerzliche Einladung an interessierte Frauen! \nBirgitta Daniels-Nieswand \nAnmeldung ab Januar für alle Termine des Jahres  \n\nBild: © Richard Griffin · stock.adobe.com
URL:https://www.seelsorge-und-begegnung.de/event/frauenspuren-2/2026-06-15/
LOCATION:Köln\, Seelsorge & Begegnung\, Auguststr. 58\, Köln\, Nordrhein-Westfalen\, Köln
CATEGORIES:Gruppenangebote
ATTACH;FMTTYPE=image/jpeg:https://www.seelsorge-und-begegnung.de/wp-content/uploads/2023/06/frauenspuren_labyrinth.jpg
ORGANIZER;CN="Seelsorge & Begegnung f%C3%BCr psychiatrieerfahrene Menschen":MAILTO:info@seelsorge-und-begegnung.de
END:VEVENT
BEGIN:VEVENT
DTSTART;TZID=Europe/Berlin:20260619T160000
DTEND;TZID=Europe/Berlin:20260619T180000
DTSTAMP:20260419T165029
CREATED:20251205T080616Z
LAST-MODIFIED:20251130T205836Z
UID:10000956-1781884800-1781892000@www.seelsorge-und-begegnung.de
SUMMARY:Ich liebe das Leben
DESCRIPTION:Freitag\, 19. Juni 2026 von 16.00 bis 18.00 Uhr\nFreitag\, 09. Oktober 2026 von 16.00 bis 18.00 Uhr \nSingen ist ein wundervolles Lebenselixier\, das uns im wahrsten Sinne des Wortes bewegt. Mit schwungvollen Volksliedern\, Schlagern\, Chants und Liedern aus aller Welt werden wir uns an diesen beiden Nachmittagen dem bewegten Singen widmen. \nGika Bäumer und Birgitta Daniels-Nieswand laden zu einem Singnachmittag ein\, der Lebensfreude\, Gesang und Rhythmus verbindet. \nGika Bäumer\nBirgitta Daniels-Nieswand \nAnmeldung ab Mai \n\nBild: © Birgitta Daniels-Nieswand
URL:https://www.seelsorge-und-begegnung.de/event/ich-liebe-das-leben-2/2026-06-19/
LOCATION:Köln\, Paulushaus\, Loreleystraße 7\, Köln\, Nordrhein-Westfalen\, 50677\, Germany
CATEGORIES:Gruppenangebote
ATTACH;FMTTYPE=image/jpeg:https://www.seelsorge-und-begegnung.de/wp-content/uploads/2024/11/Gika_Programm-2025.jpg
ORGANIZER;CN="Seelsorge & Begegnung f%C3%BCr psychiatrieerfahrene Menschen":MAILTO:info@seelsorge-und-begegnung.de
END:VEVENT
BEGIN:VEVENT
DTSTART;TZID=Europe/Berlin:20260629T101500
DTEND;TZID=Europe/Berlin:20260629T123000
DTSTAMP:20260419T165029
CREATED:20251205T080332Z
LAST-MODIFIED:20251130T194824Z
UID:10000885-1782728100-1782736200@www.seelsorge-und-begegnung.de
SUMMARY:Die Seele baumeln lassen beim Malen
DESCRIPTION:Gruppe 1: montags von 10.15 bis 12.30 Uhr\nGruppe 2: montags von 13.15 bis 15.30 Uhr \n19.01. // 26.01. // 02.02. // 23.02. // 02.03. // 16.03. // 23.03. // 13.04. // 27.04. // 11.05. // 18.05. // 01.06. // 15.06. // 29.06. // 06.07.2026 \n07.09. // 14.09. // 21.09. // 28.09. // 05.10. // 12.10. // 02.11. // 09.11. // 16.11. // 23.11. // 30.11. // 07.12.2026 \nDie Seele baumeln lassen – in entspannter\, kreativer Runde wollen wir beim gemeinsamen Malen und Zeichnen den eigenen Gefühlen und Gedanken Raum geben. Wir probieren unterschiedliche Farben und Techniken auf und mit Papier aus. \nDie Leiterin Alice Musiol unterstützt mit Anregungen und Beispielen die individuellen Themen und Ausdrucksweisen. \nVorkenntnisse sind nicht notwendig. \n Alice Musiol \nAnmeldung für das 1. Halbjahr ab Januar\nAnmeldung für das 2. Halbjahr ab Mai \n\nBild: © Seelsorge & Begegnung | Malgruppe Musiol
URL:https://www.seelsorge-und-begegnung.de/event/die-seele-baumeln-lassen-beim-malen-2026/2026-06-29/
LOCATION:Köln\, Seelsorge & Begegnung\, Auguststr. 58\, Köln\, Nordrhein-Westfalen\, Köln
CATEGORIES:Gruppenangebote
ATTACH;FMTTYPE=image/jpeg:https://www.seelsorge-und-begegnung.de/wp-content/uploads/2025/11/Musiol_1_2026.jpg
ORGANIZER;CN="Seelsorge & Begegnung f%C3%BCr psychiatrieerfahrene Menschen":MAILTO:info@seelsorge-und-begegnung.de
END:VEVENT
END:VCALENDAR