BEGIN:VCALENDAR
VERSION:2.0
PRODID:-//Seelsorge &amp; Begegnung - ECPv6.15.14//NONSGML v1.0//EN
CALSCALE:GREGORIAN
METHOD:PUBLISH
X-WR-CALNAME:Seelsorge &amp; Begegnung
X-ORIGINAL-URL:https://www.seelsorge-und-begegnung.de
X-WR-CALDESC:Veranstaltungen für Seelsorge &amp; Begegnung
REFRESH-INTERVAL;VALUE=DURATION:PT1H
X-Robots-Tag:noindex
X-PUBLISHED-TTL:PT1H
BEGIN:VTIMEZONE
TZID:Europe/Berlin
BEGIN:DAYLIGHT
TZOFFSETFROM:+0100
TZOFFSETTO:+0200
TZNAME:CEST
DTSTART:20250330T010000
END:DAYLIGHT
BEGIN:STANDARD
TZOFFSETFROM:+0200
TZOFFSETTO:+0100
TZNAME:CET
DTSTART:20251026T010000
END:STANDARD
BEGIN:DAYLIGHT
TZOFFSETFROM:+0100
TZOFFSETTO:+0200
TZNAME:CEST
DTSTART:20260329T010000
END:DAYLIGHT
BEGIN:STANDARD
TZOFFSETFROM:+0200
TZOFFSETTO:+0100
TZNAME:CET
DTSTART:20261025T010000
END:STANDARD
BEGIN:DAYLIGHT
TZOFFSETFROM:+0100
TZOFFSETTO:+0200
TZNAME:CEST
DTSTART:20270328T010000
END:DAYLIGHT
BEGIN:STANDARD
TZOFFSETFROM:+0200
TZOFFSETTO:+0100
TZNAME:CET
DTSTART:20271031T010000
END:STANDARD
END:VTIMEZONE
BEGIN:VEVENT
DTSTART;TZID=Europe/Berlin:20261215T150000
DTEND;TZID=Europe/Berlin:20261215T170000
DTSTAMP:20260419T194940
CREATED:20251205T080616Z
LAST-MODIFIED:20251130T205016Z
UID:10000948-1797346800-1797354000@www.seelsorge-und-begegnung.de
SUMMARY:Adventssingen
DESCRIPTION:Dienstag\, 15. Dezember 2026\nvon 15.00 bis 17.00 Uhr \nAn diesem Nachmittag wollen wir bei Plätzchen und Punsch adventliche und weihnachtliche Lieder singen.  \nJohanna Otten wird uns auf dem Akkordeon begleiten. Liedhefte sind vorhanden und werden für die notwendige Textsicherheit sorgen. \nHerzliche Einladung an alle zum Dabeisein und Mitmachen. Gerne können kleine besinnliche und lustige Geschichten und Gedichte zum Vorlesen mitgebracht werden. \nJohanna Otten\n \nAnmeldung ab Mai \n\nBild: © drubig-photo | stock.adobe.com
URL:https://www.seelsorge-und-begegnung.de/event/adventssingen-2/
LOCATION:Köln\, Seelsorge & Begegnung\, Auguststr. 58\, Köln\, Nordrhein-Westfalen\, Köln
CATEGORIES:Gruppenangebote
ATTACH;FMTTYPE=image/jpeg:https://www.seelsorge-und-begegnung.de/wp-content/uploads/2022/12/Heiligabend-4.Advent.jpg
ORGANIZER;CN="Seelsorge & Begegnung f%C3%BCr psychiatrieerfahrene Menschen":MAILTO:info@seelsorge-und-begegnung.de
END:VEVENT
END:VCALENDAR