BEGIN:VCALENDAR
VERSION:2.0
PRODID:-//Seelsorge &amp; Begegnung - ECPv6.15.14//NONSGML v1.0//EN
CALSCALE:GREGORIAN
METHOD:PUBLISH
X-WR-CALNAME:Seelsorge &amp; Begegnung
X-ORIGINAL-URL:https://www.seelsorge-und-begegnung.de
X-WR-CALDESC:Veranstaltungen für Seelsorge &amp; Begegnung
REFRESH-INTERVAL;VALUE=DURATION:PT1H
X-Robots-Tag:noindex
X-PUBLISHED-TTL:PT1H
BEGIN:VTIMEZONE
TZID:Europe/Berlin
BEGIN:DAYLIGHT
TZOFFSETFROM:+0100
TZOFFSETTO:+0200
TZNAME:CEST
DTSTART:20250330T010000
END:DAYLIGHT
BEGIN:STANDARD
TZOFFSETFROM:+0200
TZOFFSETTO:+0100
TZNAME:CET
DTSTART:20251026T010000
END:STANDARD
BEGIN:DAYLIGHT
TZOFFSETFROM:+0100
TZOFFSETTO:+0200
TZNAME:CEST
DTSTART:20260329T010000
END:DAYLIGHT
BEGIN:STANDARD
TZOFFSETFROM:+0200
TZOFFSETTO:+0100
TZNAME:CET
DTSTART:20261025T010000
END:STANDARD
BEGIN:DAYLIGHT
TZOFFSETFROM:+0100
TZOFFSETTO:+0200
TZNAME:CEST
DTSTART:20270328T010000
END:DAYLIGHT
BEGIN:STANDARD
TZOFFSETFROM:+0200
TZOFFSETTO:+0100
TZNAME:CET
DTSTART:20271031T010000
END:STANDARD
END:VTIMEZONE
BEGIN:VEVENT
DTSTART;TZID=Europe/Berlin:20260424T130000
DTEND;TZID=Europe/Berlin:20260424T200000
DTSTAMP:20260424T175228
CREATED:20251205T080727Z
LAST-MODIFIED:20260420T130607Z
UID:10000960-1777035600-1777060800@www.seelsorge-und-begegnung.de
SUMMARY:Mein „Ja“ zum Leben || Fällt leider aus!
DESCRIPTION:Freitag\, 24. April 2026 von 16.30 bis 18.00 Uhr | Fällt leider aus! \nViele Menschen begleiten uns auf unserem Weg. \nManchmal wohlwollend und mit Zuneigung. \nAn diesem Tag werden wir gemeinsam dichte spirituelle Texte von bekannten Autoren und Autorinnen als unsere „Wegbegleiter“\nneu erleben. \nDie Texte stammen von Anton Rotzetter\, Andrea Schwarz und Jürgen Merz und sind musikalisch untermalt. Sie erzählen von Wachstum und neu werden. \nMein „Ja“ zum Leben  \nDie Kompositionen stammen von Jürgen Merz\, seine Musik lädt zu einer intensiven Betrachtung ein. \nDie Fenster in unserem Raum der Begegnung werden in die Meditation mit einbezogen. In der Tiefe unserer Seele werden wir spüren\, dass das Leben uns meint…. \nHans-Georg Schneider\nJudith Bacher \nAnmeldung ab Januar \n\nFoto: © Birgitta Daniels-Nieswand und Nina Miltner
URL:https://www.seelsorge-und-begegnung.de/event/mein-ja-zum-leben/
LOCATION:Köln\, Seelsorge & Begegnung\, Auguststr. 58\, Köln\, Nordrhein-Westfalen\, Köln
CATEGORIES:Kunst Kirche Kultur
ATTACH;FMTTYPE=image/jpeg:https://www.seelsorge-und-begegnung.de/wp-content/uploads/2025/11/Ja-zum-Leben.jpg
ORGANIZER;CN="Seelsorge & Begegnung f%C3%BCr psychiatrieerfahrene Menschen":MAILTO:info@seelsorge-und-begegnung.de
END:VEVENT
END:VCALENDAR