BEGIN:VCALENDAR
VERSION:2.0
PRODID:-//Seelsorge &amp; Begegnung - ECPv6.15.14//NONSGML v1.0//EN
CALSCALE:GREGORIAN
METHOD:PUBLISH
X-WR-CALNAME:Seelsorge &amp; Begegnung
X-ORIGINAL-URL:https://www.seelsorge-und-begegnung.de
X-WR-CALDESC:Veranstaltungen für Seelsorge &amp; Begegnung
REFRESH-INTERVAL;VALUE=DURATION:PT1H
X-Robots-Tag:noindex
X-PUBLISHED-TTL:PT1H
BEGIN:VTIMEZONE
TZID:Europe/Berlin
BEGIN:DAYLIGHT
TZOFFSETFROM:+0100
TZOFFSETTO:+0200
TZNAME:CEST
DTSTART:20250330T010000
END:DAYLIGHT
BEGIN:STANDARD
TZOFFSETFROM:+0200
TZOFFSETTO:+0100
TZNAME:CET
DTSTART:20251026T010000
END:STANDARD
BEGIN:DAYLIGHT
TZOFFSETFROM:+0100
TZOFFSETTO:+0200
TZNAME:CEST
DTSTART:20260329T010000
END:DAYLIGHT
BEGIN:STANDARD
TZOFFSETFROM:+0200
TZOFFSETTO:+0100
TZNAME:CET
DTSTART:20261025T010000
END:STANDARD
BEGIN:DAYLIGHT
TZOFFSETFROM:+0100
TZOFFSETTO:+0200
TZNAME:CEST
DTSTART:20270328T010000
END:DAYLIGHT
BEGIN:STANDARD
TZOFFSETFROM:+0200
TZOFFSETTO:+0100
TZNAME:CET
DTSTART:20271031T010000
END:STANDARD
END:VTIMEZONE
BEGIN:VEVENT
DTSTART;TZID=Europe/Berlin:20260420T163000
DTEND;TZID=Europe/Berlin:20260420T180000
DTSTAMP:20260420T025558
CREATED:20251205T080012Z
LAST-MODIFIED:20251130T190843Z
UID:10000779-1776702600-1776708000@www.seelsorge-und-begegnung.de
SUMMARY:Frauenspuren
DESCRIPTION:montags von 16.30 bis 18.00 Uhr \n12.01. // 09.02. // 09.03. // 20.04. // 11.05. // 15.06. // 13.07. // 10.08. // 21.09. // 12.10. // 16.11. // 14.12.2026 \nMiteinander \n\nein Stück Weg gemeinsam gehen\nsingen\, beten und kreativ sein\nreden und lachen\nvoneinander hören\, miteinander schweigen und einander ermutigen\n\nMiteinander den Spuren von Frauen \n\nin Kunst und Kirche\nin Gedichten und Geschichten\nin biblischen Erzählungen nachgehen\n\nMiteinander Spuren Gottes in unserem Leben entdecken \nHerzliche Einladung an interessierte Frauen! \nBirgitta Daniels-Nieswand \nAnmeldung ab Januar für alle Termine des Jahres  \n\nBild: © Richard Griffin · stock.adobe.com
URL:https://www.seelsorge-und-begegnung.de/event/frauenspuren-2/2026-04-20/
LOCATION:Köln\, Seelsorge & Begegnung\, Auguststr. 58\, Köln\, Nordrhein-Westfalen\, Köln
CATEGORIES:Gruppenangebote
ATTACH;FMTTYPE=image/jpeg:https://www.seelsorge-und-begegnung.de/wp-content/uploads/2023/06/frauenspuren_labyrinth.jpg
ORGANIZER;CN="Seelsorge & Begegnung f%C3%BCr psychiatrieerfahrene Menschen":MAILTO:info@seelsorge-und-begegnung.de
END:VEVENT
END:VCALENDAR